BEGIN:VCALENDAR
VERSION:2.0
PRODID:-//StreamRadar//Match Calendar//EN
CALSCALE:GREGORIAN
METHOD:PUBLISH
X-WR-CALNAME:Huracán vs Racing Club
X-WR-TIMEZONE:America/New_York
BEGIN:VEVENT
UID:match-5504178@streamradar.soccer
SUMMARY:Huracán vs Racing Club
DTSTAMP:20260421T050804Z
DTSTART;TZID=America/New_York:20260913T160000
DTEND;TZID=America/New_York:20260913T180000
DESCRIPTION:Gdzie oglądać Huracán vs Racing Club w Argentyna - Primera D
 ivisión Argentine dywizja. Transmisja na żywo i program TV.\nhttps://stre
 amradar.soccer/pl/match/5504178/huracan-vs-racing-club/
URL;VALUE=URI:https://streamradar.soccer/pl/match/5504178/huracan-vs-racing
 -club/
STATUS:CONFIRMED
END:VEVENT
END:VCALENDAR
