BEGIN:VCALENDAR
VERSION:2.0
PRODID:-//StreamRadar//Match Calendar//EN
CALSCALE:GREGORIAN
METHOD:PUBLISH
X-WR-CALNAME:Deportivo Riestra vs Lanús
X-WR-TIMEZONE:America/New_York
BEGIN:VEVENT
UID:match-5504176@streamradar.soccer
SUMMARY:Deportivo Riestra vs Lanús
DTSTAMP:20260421T050800Z
DTSTART;TZID=America/New_York:20260913T160000
DTEND;TZID=America/New_York:20260913T180000
LOCATION:Estadio Guillermo Laza
DESCRIPTION:Gdzie oglądać Deportivo Riestra vs Lanús w Argentyna - Prime
 ra División Argentine dywizja. Transmisja na żywo i program TV.\nhttps://
 streamradar.soccer/pl/match/5504176/deportivo-riestra-vs-lanus/
URL;VALUE=URI:https://streamradar.soccer/pl/match/5504176/deportivo-riestra
 -vs-lanus/
STATUS:CONFIRMED
END:VEVENT
END:VCALENDAR
