BEGIN:VCALENDAR
VERSION:2.0
PRODID:-//StreamRadar//Match Calendar//EN
CALSCALE:GREGORIAN
METHOD:PUBLISH
X-WR-CALNAME:Central Córdoba SdE vs Independiente
X-WR-TIMEZONE:America/New_York
BEGIN:VEVENT
UID:match-5504159@streamradar.soccer
SUMMARY:Central Córdoba SdE vs Independiente
DTSTAMP:20260421T063102Z
DTSTART;TZID=America/New_York:20260906T160000
DTEND;TZID=America/New_York:20260906T180000
LOCATION:Estadio Unico Madre de Ciudades
DESCRIPTION:Gdzie oglądać Central Córdoba SdE vs Independiente w Argenty
 na - Primera División Argentine dywizja. Transmisja na żywo i program TV.
 \nhttps://streamradar.soccer/pl/match/5504159/central-cordoba-sde-vs-indepe
 ndiente/
URL;VALUE=URI:https://streamradar.soccer/pl/match/5504159/central-cordoba-s
 de-vs-independiente/
STATUS:CONFIRMED
END:VEVENT
END:VCALENDAR
