BEGIN:VCALENDAR
VERSION:2.0
PRODID:-//StreamRadar//Match Calendar//EN
CALSCALE:GREGORIAN
METHOD:PUBLISH
X-WR-CALNAME:CS Sfaxien vs Etoile du Sahel
X-WR-TIMEZONE:America/New_York
BEGIN:VEVENT
UID:match-5620968@streamradar.soccer
SUMMARY:CS Sfaxien vs Etoile du Sahel
DTSTAMP:20260425T115914Z
DTSTART;TZID=America/New_York:20260513T093000
DTEND;TZID=America/New_York:20260513T113000
DESCRIPTION:Waar je CS Sfaxien vs Etoile Du Sahel in Tunesië - Ligue Profe
 ssionnelle 1 kunt kijken. Livestream en tv-gids.\nhttps://streamradar.socce
 r/nl/match/5620968/cs-sfaxien-vs-etoile-du-sahel/
URL;VALUE=URI:https://streamradar.soccer/nl/match/5620968/cs-sfaxien-vs-eto
 ile-du-sahel/
STATUS:CONFIRMED
END:VEVENT
END:VCALENDAR
