BEGIN:VCALENDAR
VERSION:2.0
PRODID:-//StreamRadar//Match Calendar//EN
CALSCALE:GREGORIAN
METHOD:PUBLISH
X-WR-CALNAME:CA Bizertin vs Zarzis
X-WR-TIMEZONE:America/New_York
BEGIN:VEVENT
UID:match-5620966@streamradar.soccer
SUMMARY:CA Bizertin vs Zarzis
DTSTAMP:20260425T115909Z
DTSTART;TZID=America/New_York:20260513T093000
DTEND;TZID=America/New_York:20260513T113000
LOCATION:Stade 15 Octobre
DESCRIPTION:Waar je CA Bizertin vs Zarzis in Tunesië - Ligue Professionnel
 le 1 kunt kijken. Livestream en tv-gids.\nhttps://streamradar.soccer/nl/mat
 ch/5620966/ca-bizertin-vs-zarzis/
URL;VALUE=URI:https://streamradar.soccer/nl/match/5620966/ca-bizertin-vs-za
 rzis/
STATUS:CONFIRMED
END:VEVENT
END:VCALENDAR
