BEGIN:VCALENDAR
VERSION:2.0
PRODID:-//StreamRadar//Match Calendar//EN
CALSCALE:GREGORIAN
METHOD:PUBLISH
X-WR-CALNAME:Loudoun United vs Charleston Battery
X-WR-TIMEZONE:America/New_York
BEGIN:VEVENT
UID:match-5620689@streamradar.soccer
SUMMARY:Loudoun United vs Charleston Battery
DTSTAMP:20260424T171427Z
DTSTART;TZID=America/New_York:20260425T180000
DTEND;TZID=America/New_York:20260425T200000
LOCATION:Segra Field
DESCRIPTION:Waar je Loudoun United vs Charleston Battery in Verenigde State
 n - USL Cup kunt kijken. Livestream en tv-gids.\nhttps://streamradar.soccer
 /nl/match/5620689/loudoun-united-vs-charleston-battery/
URL;VALUE=URI:https://streamradar.soccer/nl/match/5620689/loudoun-united-vs
 -charleston-battery/
STATUS:CONFIRMED
END:VEVENT
END:VCALENDAR
