BEGIN:VCALENDAR
VERSION:2.0
PRODID:-//StreamRadar//Match Calendar//EN
CALSCALE:GREGORIAN
METHOD:PUBLISH
X-WR-CALNAME:Khovd vs Khovd Western
X-WR-TIMEZONE:America/New_York
BEGIN:VEVENT
UID:match-5619671@streamradar.soccer
SUMMARY:Khovd vs Khovd Western
DTSTAMP:20260423T123329Z
DTSTART;TZID=America/New_York:20260516T030000
DTEND;TZID=America/New_York:20260516T050000
DESCRIPTION:Waar je Khovd vs Khovd Western in Mongolië - Premier League ku
 nt kijken. Livestream en tv-gids.\nhttps://streamradar.soccer/nl/match/5619
 671/khovd-vs-khovd-western/
URL;VALUE=URI:https://streamradar.soccer/nl/match/5619671/khovd-vs-khovd-we
 stern/
STATUS:CONFIRMED
END:VEVENT
END:VCALENDAR
