BEGIN:VCALENDAR
VERSION:2.0
PRODID:-//StreamRadar//Match Calendar//EN
CALSCALE:GREGORIAN
METHOD:PUBLISH
X-WR-CALNAME:Southampton U21 vs Aston Villa U21
X-WR-TIMEZONE:America/New_York
BEGIN:VEVENT
UID:match-5619602@streamradar.soccer
SUMMARY:Southampton U21 vs Aston Villa U21
DTSTAMP:20260423T124638Z
DTSTART;TZID=America/New_York:20260424T140000
DTEND;TZID=America/New_York:20260424T160000
LOCATION:Staplewood Training Ground
DESCRIPTION:Waar je Southampton U-21 vs Aston Villa U-21 in Engeland - Prem
 ier League 2 kunt kijken. Livestream en tv-gids.\nhttps://streamradar.socce
 r/nl/match/5619602/southampton-u21-vs-aston-villa-u21/
URL;VALUE=URI:https://streamradar.soccer/nl/match/5619602/southampton-u21-v
 s-aston-villa-u21/
STATUS:CONFIRMED
END:VEVENT
END:VCALENDAR
