BEGIN:VCALENDAR
VERSION:2.0
PRODID:-//StreamRadar//Match Calendar//EN
CALSCALE:GREGORIAN
METHOD:PUBLISH
X-WR-CALNAME:Envigado vs Tigres
X-WR-TIMEZONE:America/New_York
BEGIN:VEVENT
UID:match-5619576@streamradar.soccer
SUMMARY:Envigado vs Tigres
DTSTAMP:20260423T140734Z
DTSTART;TZID=America/New_York:20260429T163000
DTEND;TZID=America/New_York:20260429T183000
LOCATION:Estadio Polideportivo Sur
DESCRIPTION:Waar je Envigado vs Tigres in Colombia - Primera B kunt kijken.
  Livestream en tv-gids.\nhttps://streamradar.soccer/nl/match/5619576/enviga
 do-vs-tigres/
URL;VALUE=URI:https://streamradar.soccer/nl/match/5619576/envigado-vs-tigre
 s/
STATUS:CONFIRMED
END:VEVENT
END:VCALENDAR
