BEGIN:VCALENDAR
VERSION:2.0
PRODID:-//StreamRadar//Match Calendar//EN
CALSCALE:GREGORIAN
METHOD:PUBLISH
X-WR-CALNAME:MaPS vs ÅIFK
X-WR-TIMEZONE:America/New_York
BEGIN:VEVENT
UID:match-5619561@streamradar.soccer
SUMMARY:MaPS vs ÅIFK
DTSTAMP:20260423T140355Z
DTSTART;TZID=America/New_York:20260429T124500
DTEND;TZID=America/New_York:20260429T144500
LOCATION:Masku Taponketo nurmi (Masku)
DESCRIPTION:Waar je MaPS vs ÅIFK in Finland - Suomen Cup kunt kijken. Live
 stream en tv-gids.\nhttps://streamradar.soccer/nl/match/5619561/maps-vs-aif
 k/
URL;VALUE=URI:https://streamradar.soccer/nl/match/5619561/maps-vs-aifk/
STATUS:CONFIRMED
END:VEVENT
END:VCALENDAR
