BEGIN:VCALENDAR
VERSION:2.0
PRODID:-//StreamRadar//Match Calendar//EN
CALSCALE:GREGORIAN
METHOD:PUBLISH
X-WR-CALNAME:Atlantis vs Honka
X-WR-TIMEZONE:America/New_York
BEGIN:VEVENT
UID:match-5619540@streamradar.soccer
SUMMARY:Atlantis vs Honka
DTSTAMP:20260423T140414Z
DTSTART;TZID=America/New_York:20260428T130000
DTEND;TZID=America/New_York:20260428T150000
LOCATION:Toolon Pallokentta
DESCRIPTION:Waar je Atlantis vs Honka in Finland - Suomen Cup kunt kijken. 
 Livestream en tv-gids.\nhttps://streamradar.soccer/nl/match/5619540/atlanti
 s-vs-honka/
URL;VALUE=URI:https://streamradar.soccer/nl/match/5619540/atlantis-vs-honka
 /
STATUS:CONFIRMED
END:VEVENT
END:VCALENDAR
