BEGIN:VCALENDAR
VERSION:2.0
PRODID:-//StreamRadar//Match Calendar//EN
CALSCALE:GREGORIAN
METHOD:PUBLISH
X-WR-CALNAME:Caldas vs Sporting Covilhã
X-WR-TIMEZONE:America/New_York
BEGIN:VEVENT
UID:match-5619519@streamradar.soccer
SUMMARY:Caldas vs Sporting Covilhã
DTSTAMP:20260423T123308Z
DTSTART;TZID=America/New_York:20260425T120000
DTEND;TZID=America/New_York:20260425T140000
LOCATION:Campo da Mata
DESCRIPTION:Waar je Caldas vs Sporting Covilhã in Portugal - Liga 3 kunt k
 ijken. Livestream en tv-gids.\nhttps://streamradar.soccer/nl/match/5619519/
 caldas-vs-sporting-covilha/
URL;VALUE=URI:https://streamradar.soccer/nl/match/5619519/caldas-vs-sportin
 g-covilha/
STATUS:CONFIRMED
END:VEVENT
END:VCALENDAR
