BEGIN:VCALENDAR
VERSION:2.0
PRODID:-//StreamRadar//Match Calendar//EN
CALSCALE:GREGORIAN
METHOD:PUBLISH
X-WR-CALNAME:Minija vs Sūduva
X-WR-TIMEZONE:America/New_York
BEGIN:VEVENT
UID:match-5618836@streamradar.soccer
SUMMARY:Minija vs Sūduva
DTSTAMP:20260423T123831Z
DTSTART;TZID=America/New_York:20260428T110000
DTEND;TZID=America/New_York:20260428T130000
LOCATION:Kretinga Stadium
DESCRIPTION:Waar je Minija vs Sūduva in Litouwen - LFF beker kunt kijken. 
 Livestream en tv-gids.\nhttps://streamradar.soccer/nl/match/5618836/minija-
 vs-suduva/
URL;VALUE=URI:https://streamradar.soccer/nl/match/5618836/minija-vs-suduva/
STATUS:CONFIRMED
END:VEVENT
END:VCALENDAR
