BEGIN:VCALENDAR
VERSION:2.0
PRODID:-//StreamRadar//Match Calendar//EN
CALSCALE:GREGORIAN
METHOD:PUBLISH
X-WR-CALNAME:Hapoel Hadera vs Hapoel Acre
X-WR-TIMEZONE:America/New_York
BEGIN:VEVENT
UID:match-5618799@streamradar.soccer
SUMMARY:Hapoel Hadera vs Hapoel Acre
DTSTAMP:20260422T104122Z
DTSTART;TZID=America/New_York:20260519T120000
DTEND;TZID=America/New_York:20260519T140000
LOCATION:Netanya Stadium
DESCRIPTION:Waar je Hapoel Hadera vs Hapoel Acre in Israël - Liga Leumit k
 unt kijken. Livestream en tv-gids.\nhttps://streamradar.soccer/nl/match/561
 8799/hapoel-hadera-vs-hapoel-acre/
URL;VALUE=URI:https://streamradar.soccer/nl/match/5618799/hapoel-hadera-vs-
 hapoel-acre/
STATUS:CONFIRMED
END:VEVENT
END:VCALENDAR
