BEGIN:VCALENDAR
VERSION:2.0
PRODID:-//StreamRadar//Match Calendar//EN
CALSCALE:GREGORIAN
METHOD:PUBLISH
X-WR-CALNAME:Bayern München vs Aston Villa
X-WR-TIMEZONE:America/New_York
BEGIN:VEVENT
UID:match-5618104@streamradar.soccer
SUMMARY:Bayern München vs Aston Villa
DTSTAMP:20260423T124533Z
DTSTART;TZID=America/New_York:20260807T060000
DTEND;TZID=America/New_York:20260807T080000
LOCATION:Kai Tak Sports Park
DESCRIPTION:Waar je Bayern München vs Aston Villa in Vriendschappelijke we
 dstrijd (clubniveau) kunt kijken. Livestream en tv-gids.\nhttps://streamrad
 ar.soccer/nl/match/5618104/bayern-m-nchen-vs-aston-villa/
URL;VALUE=URI:https://streamradar.soccer/nl/match/5618104/bayern-m-nchen-vs
 -aston-villa/
STATUS:CONFIRMED
END:VEVENT
END:VCALENDAR
