BEGIN:VCALENDAR
VERSION:2.0
PRODID:-//StreamRadar//Match Calendar//EN
CALSCALE:GREGORIAN
METHOD:PUBLISH
X-WR-CALNAME:Arsenal vs Real Betis
X-WR-TIMEZONE:America/New_York
BEGIN:VEVENT
UID:match-5618103@streamradar.soccer
SUMMARY:Arsenal vs Real Betis
DTSTAMP:20260423T123352Z
DTSTART;TZID=America/New_York:20260805T143000
DTEND;TZID=America/New_York:20260805T163000
DESCRIPTION:Waar je Arsenal vs Real Betis in Vriendschappelijke wedstrijd (
 clubniveau) kunt kijken. Livestream en tv-gids.\nhttps://streamradar.soccer
 /nl/match/5618103/arsenal-vs-real-betis/
URL;VALUE=URI:https://streamradar.soccer/nl/match/5618103/arsenal-vs-real-b
 etis/
STATUS:CONFIRMED
END:VEVENT
END:VCALENDAR
