BEGIN:VCALENDAR
VERSION:2.0
PRODID:-//StreamRadar//Match Calendar//EN
CALSCALE:GREGORIAN
METHOD:PUBLISH
X-WR-CALNAME:Bayern München vs Jeju United
X-WR-TIMEZONE:America/New_York
BEGIN:VEVENT
UID:match-5618101@streamradar.soccer
SUMMARY:Bayern München vs Jeju United
DTSTAMP:20260421T225918Z
DTSTART;TZID=America/New_York:20260804T060000
DTEND;TZID=America/New_York:20260804T080000
LOCATION:Jeju World Cup Stadium
DESCRIPTION:Waar je Bayern München vs Jeju United in Vriendschappelijke we
 dstrijd (clubniveau) kunt kijken. Livestream en tv-gids.\nhttps://streamrad
 ar.soccer/nl/match/5618101/bayern-m-nchen-vs-jeju-united/
URL;VALUE=URI:https://streamradar.soccer/nl/match/5618101/bayern-m-nchen-vs
 -jeju-united/
STATUS:CONFIRMED
END:VEVENT
END:VCALENDAR
