BEGIN:VCALENDAR
VERSION:2.0
PRODID:-//StreamRadar//Match Calendar//EN
CALSCALE:GREGORIAN
METHOD:PUBLISH
X-WR-CALNAME:Patronato vs Midland
X-WR-TIMEZONE:America/New_York
BEGIN:VEVENT
UID:match-5618048@streamradar.soccer
SUMMARY:Patronato vs Midland
DTSTAMP:20260421T104150Z
DTSTART;TZID=America/New_York:20260620T160000
DTEND;TZID=America/New_York:20260620T180000
DESCRIPTION:Waar je Patronato vs Midland in Argentinië - Primera Nacional 
 kunt kijken. Livestream en tv-gids.\nhttps://streamradar.soccer/nl/match/56
 18048/patronato-vs-midland/
URL;VALUE=URI:https://streamradar.soccer/nl/match/5618048/patronato-vs-midl
 and/
STATUS:CONFIRMED
END:VEVENT
END:VCALENDAR
