BEGIN:VCALENDAR
VERSION:2.0
PRODID:-//StreamRadar//Match Calendar//EN
CALSCALE:GREGORIAN
METHOD:PUBLISH
X-WR-CALNAME:Nueva Chicago vs Atlético Rafaela
X-WR-TIMEZONE:America/New_York
BEGIN:VEVENT
UID:match-5618047@streamradar.soccer
SUMMARY:Nueva Chicago vs Atlético Rafaela
DTSTAMP:20260421T104342Z
DTSTART;TZID=America/New_York:20260620T160000
DTEND;TZID=America/New_York:20260620T180000
LOCATION:Estadio Nueva Chicago
DESCRIPTION:Waar je Nueva Chicago vs Atlético Rafaela in Argentinië - Pri
 mera Nacional kunt kijken. Livestream en tv-gids.\nhttps://streamradar.socc
 er/nl/match/5618047/nueva-chicago-vs-atletico-rafaela/
URL;VALUE=URI:https://streamradar.soccer/nl/match/5618047/nueva-chicago-vs-
 atletico-rafaela/
STATUS:CONFIRMED
END:VEVENT
END:VCALENDAR
