BEGIN:VCALENDAR
VERSION:2.0
PRODID:-//StreamRadar//Match Calendar//EN
CALSCALE:GREGORIAN
METHOD:PUBLISH
X-WR-CALNAME:Oriente Petrolero vs Blooming
X-WR-TIMEZONE:America/New_York
BEGIN:VEVENT
UID:match-5618026@streamradar.soccer
SUMMARY:Oriente Petrolero vs Blooming
DTSTAMP:20260421T145742Z
DTSTART;TZID=America/New_York:20260531T193000
DTEND;TZID=America/New_York:20260531T213000
LOCATION:Estadio Ramon Tahuichi Aguilera Costas
DESCRIPTION:Waar je Oriente Petrolero vs Blooming in Bolivia - Primera Divi
 sión kunt kijken. Livestream en tv-gids.\nhttps://streamradar.soccer/nl/ma
 tch/5618026/oriente-petrolero-vs-blooming/
URL;VALUE=URI:https://streamradar.soccer/nl/match/5618026/oriente-petrolero
 -vs-blooming/
STATUS:CONFIRMED
END:VEVENT
END:VCALENDAR
