BEGIN:VCALENDAR
VERSION:2.0
PRODID:-//StreamRadar//Match Calendar//EN
CALSCALE:GREGORIAN
METHOD:PUBLISH
X-WR-CALNAME:Greece vs Italy
X-WR-TIMEZONE:America/New_York
BEGIN:VEVENT
UID:match-5617974@streamradar.soccer
SUMMARY:Greece vs Italy
DTSTAMP:20260422T005936Z
DTSTART;TZID=America/New_York:20260607T144500
DTEND;TZID=America/New_York:20260607T164500
LOCATION:Pankritio Stadium
DESCRIPTION:Waar je Griekenland vs Italië in Vriendschappelijke interland 
 kunt kijken. Livestream en tv-gids.\nhttps://streamradar.soccer/nl/match/56
 17974/greece-vs-italy/
URL;VALUE=URI:https://streamradar.soccer/nl/match/5617974/greece-vs-italy/
STATUS:CONFIRMED
END:VEVENT
END:VCALENDAR
