BEGIN:VCALENDAR
VERSION:2.0
PRODID:-//StreamRadar//Match Calendar//EN
CALSCALE:GREGORIAN
METHOD:PUBLISH
X-WR-CALNAME:Hadiya Hosaena vs Ethiopia Nigd Bank
X-WR-TIMEZONE:America/New_York
BEGIN:VEVENT
UID:match-5617503@streamradar.soccer
SUMMARY:Hadiya Hosaena vs Ethiopia Nigd Bank
DTSTAMP:20260421T104943Z
DTSTART;TZID=America/New_York:20260519T090000
DTEND;TZID=America/New_York:20260519T110000
DESCRIPTION:Waar je Hadiya Hosaena vs Ethiopia Nigd Bank in Ethiopië - Pre
 mier League kunt kijken. Livestream en tv-gids.\nhttps://streamradar.soccer
 /nl/match/5617503/hadiya-hosaena-vs-ethiopia-nigd-bank/
URL;VALUE=URI:https://streamradar.soccer/nl/match/5617503/hadiya-hosaena-vs
 -ethiopia-nigd-bank/
STATUS:CONFIRMED
END:VEVENT
END:VCALENDAR
