BEGIN:VCALENDAR
VERSION:2.0
PRODID:-//StreamRadar//Match Calendar//EN
CALSCALE:GREGORIAN
METHOD:PUBLISH
X-WR-CALNAME:Al Zawra'a vs Duhok
X-WR-TIMEZONE:America/New_York
BEGIN:VEVENT
UID:match-5617420@streamradar.soccer
SUMMARY:Al Zawra'a vs Duhok
DTSTAMP:20260421T093039Z
DTSTART;TZID=America/New_York:20260501T123000
DTEND;TZID=America/New_York:20260501T143000
DESCRIPTION:Waar je Al Zawra'a vs Duhok in Iraqi Premier League kunt kijken
 . Livestream en tv-gids.\nhttps://streamradar.soccer/nl/match/5617420/al-za
 wraa-vs-duhok/
URL;VALUE=URI:https://streamradar.soccer/nl/match/5617420/al-zawraa-vs-duho
 k/
STATUS:CONFIRMED
END:VEVENT
END:VCALENDAR
