BEGIN:VCALENDAR
VERSION:2.0
PRODID:-//StreamRadar//Match Calendar//EN
CALSCALE:GREGORIAN
METHOD:PUBLISH
X-WR-CALNAME:Patro Eisden vs Beerschot
X-WR-TIMEZONE:America/New_York
BEGIN:VEVENT
UID:match-5617397@streamradar.soccer
SUMMARY:Patro Eisden vs Beerschot
DTSTAMP:20260420T120542Z
DTSTART;TZID=America/New_York:20260423T143000
DTEND;TZID=America/New_York:20260423T163000
LOCATION:Patrostadion
DESCRIPTION:Waar je Patro Eisden vs Beerschot in België - Jupiler Pro Leag
 ue kunt kijken. Livestream en tv-gids.\nhttps://streamradar.soccer/nl/match
 /5617397/patro-eisden-vs-beerschot/
URL;VALUE=URI:https://streamradar.soccer/nl/match/5617397/patro-eisden-vs-b
 eerschot/
STATUS:CONFIRMED
END:VEVENT
END:VCALENDAR
