BEGIN:VCALENDAR
VERSION:2.0
PRODID:-//StreamRadar//Match Calendar//EN
CALSCALE:GREGORIAN
METHOD:PUBLISH
X-WR-CALNAME:Argentina U17 vs Colombia U17
X-WR-TIMEZONE:America/New_York
BEGIN:VEVENT
UID:match-5617370@streamradar.soccer
SUMMARY:Argentina U17 vs Colombia U17
DTSTAMP:20260420T061211Z
DTSTART;TZID=America/New_York:20260426T160000
DTEND;TZID=America/New_York:20260426T180000
DESCRIPTION:Waar je Argentinië U-17 vs Colombia U-17 in Zuid-Amerikaans Ka
 mpioenschap Vrouwen Onder 17 kunt kijken. Livestream en tv-gids.\nhttps://s
 treamradar.soccer/nl/match/5617370/argentina-u17-vs-colombia-u17/
URL;VALUE=URI:https://streamradar.soccer/nl/match/5617370/argentina-u17-vs-
 colombia-u17/
STATUS:CONFIRMED
END:VEVENT
END:VCALENDAR
