BEGIN:VCALENDAR
VERSION:2.0
PRODID:-//StreamRadar//Match Calendar//EN
CALSCALE:GREGORIAN
METHOD:PUBLISH
X-WR-CALNAME:Uruguay Montevideo vs Tacuarembó
X-WR-TIMEZONE:America/New_York
BEGIN:VEVENT
UID:match-5617054@streamradar.soccer
SUMMARY:Uruguay Montevideo vs Tacuarembó
DTSTAMP:20260421T071547Z
DTSTART;TZID=America/New_York:20260426T140000
DTEND;TZID=America/New_York:20260426T160000
LOCATION:Parque ANCAP (Montevideo)
DESCRIPTION:Waar je Uruguay Montevideo vs Tacuarembó in Uruguay - Segunda 
 División kunt kijken. Livestream en tv-gids.\nhttps://streamradar.soccer/n
 l/match/5617054/uruguay-montevideo-vs-tacuarembo/
URL;VALUE=URI:https://streamradar.soccer/nl/match/5617054/uruguay-montevide
 o-vs-tacuarembo/
STATUS:CONFIRMED
END:VEVENT
END:VCALENDAR
