BEGIN:VCALENDAR
VERSION:2.0
PRODID:-//StreamRadar//Match Calendar//EN
CALSCALE:GREGORIAN
METHOD:PUBLISH
X-WR-CALNAME:SJK-juniorit vs VPS II
X-WR-TIMEZONE:America/New_York
BEGIN:VEVENT
UID:match-5617018@streamradar.soccer
SUMMARY:SJK-juniorit vs VPS II
DTSTAMP:20260419T121301Z
DTSTART;TZID=America/New_York:20260518T113000
DTEND;TZID=America/New_York:20260518T133000
LOCATION:OmaSp Stadion
DESCRIPTION:Waar je SJK-juniorit vs VPS II in Finland - Kakkonen kunt kijke
 n. Livestream en tv-gids.\nhttps://streamradar.soccer/nl/match/5617018/sjk-
 juniorit-vs-vps-ii/
URL;VALUE=URI:https://streamradar.soccer/nl/match/5617018/sjk-juniorit-vs-v
 ps-ii/
STATUS:CONFIRMED
END:VEVENT
END:VCALENDAR
