BEGIN:VCALENDAR
VERSION:2.0
PRODID:-//StreamRadar//Match Calendar//EN
CALSCALE:GREGORIAN
METHOD:PUBLISH
X-WR-CALNAME:Murom vs Irkutsk
X-WR-TIMEZONE:America/New_York
BEGIN:VEVENT
UID:match-5616270@streamradar.soccer
SUMMARY:Murom vs Irkutsk
DTSTAMP:20260421T062029Z
DTSTART;TZID=America/New_York:20260517T090000
DTEND;TZID=America/New_York:20260517T110000
DESCRIPTION:Waar je Murom vs Irkutsk in Rusland - FNL 2 kunt kijken. Livest
 ream en tv-gids.\nhttps://streamradar.soccer/nl/match/5616270/murom-vs-irku
 tsk/
URL;VALUE=URI:https://streamradar.soccer/nl/match/5616270/murom-vs-irkutsk/
STATUS:CONFIRMED
END:VEVENT
END:VCALENDAR
