BEGIN:VCALENDAR
VERSION:2.0
PRODID:-//StreamRadar//Match Calendar//EN
CALSCALE:GREGORIAN
METHOD:PUBLISH
X-WR-CALNAME:McKinney vs Denton Diablos
X-WR-TIMEZONE:America/New_York
BEGIN:VEVENT
UID:match-5616232@streamradar.soccer
SUMMARY:McKinney vs Denton Diablos
DTSTAMP:20260421T093634Z
DTSTART;TZID=America/New_York:20260516T203000
DTEND;TZID=America/New_York:20260516T223000
DESCRIPTION:Waar je McKinney vs Denton Diablos in USL League Two kunt kijke
 n. Livestream en tv-gids.\nhttps://streamradar.soccer/nl/match/5616232/mcki
 nney-vs-denton-diablos/
URL;VALUE=URI:https://streamradar.soccer/nl/match/5616232/mckinney-vs-dento
 n-diablos/
STATUS:CONFIRMED
END:VEVENT
END:VCALENDAR
