BEGIN:VCALENDAR
VERSION:2.0
PRODID:-//StreamRadar//Match Calendar//EN
CALSCALE:GREGORIAN
METHOD:PUBLISH
X-WR-CALNAME:Meyrin vs Echallens
X-WR-TIMEZONE:America/New_York
BEGIN:VEVENT
UID:match-5616219@streamradar.soccer
SUMMARY:Meyrin vs Echallens
DTSTAMP:20260421T074045Z
DTSTART;TZID=America/New_York:20260517T100000
DTEND;TZID=America/New_York:20260517T120000
DESCRIPTION:Waar je Meyrin vs Echallens in Zwitserland - 1. Liga Classic ku
 nt kijken. Livestream en tv-gids.\nhttps://streamradar.soccer/nl/match/5616
 219/meyrin-vs-echallens/
URL;VALUE=URI:https://streamradar.soccer/nl/match/5616219/meyrin-vs-echalle
 ns/
STATUS:CONFIRMED
END:VEVENT
END:VCALENDAR
