BEGIN:VCALENDAR
VERSION:2.0
PRODID:-//StreamRadar//Match Calendar//EN
CALSCALE:GREGORIAN
METHOD:PUBLISH
X-WR-CALNAME:Panathinaikos vs PAOK
X-WR-TIMEZONE:America/New_York
BEGIN:VEVENT
UID:match-5616106@streamradar.soccer
SUMMARY:Panathinaikos vs PAOK
DTSTAMP:20260421T062359Z
DTSTART;TZID=America/New_York:20260517T123000
DTEND;TZID=America/New_York:20260517T143000
LOCATION:Olympic Stadium of Athens
DESCRIPTION:Waar je Panathinaikos vs PAOK in Griekenland - Super League Gri
 ekenland kunt kijken. Livestream en tv-gids.\nhttps://streamradar.soccer/nl
 /match/5616106/panathinaikos-vs-paok/
URL;VALUE=URI:https://streamradar.soccer/nl/match/5616106/panathinaikos-vs-
 paok/
STATUS:CONFIRMED
END:VEVENT
END:VCALENDAR
