BEGIN:VCALENDAR
VERSION:2.0
PRODID:-//StreamRadar//Match Calendar//EN
CALSCALE:GREGORIAN
METHOD:PUBLISH
X-WR-CALNAME:Tagour Provincial Club vs Tahoua
X-WR-TIMEZONE:America/New_York
BEGIN:VEVENT
UID:match-5616088@streamradar.soccer
SUMMARY:Tagour Provincial Club vs Tahoua
DTSTAMP:20260421T092518Z
DTSTART;TZID=America/New_York:20260419T110000
DTEND;TZID=America/New_York:20260419T130000
DESCRIPTION:Waar je Tagour Provincial Club vs Tahoua in Niger - Super Ligue
  kunt kijken. Livestream en tv-gids.\nhttps://streamradar.soccer/nl/match/5
 616088/tagour-provincial-club-vs-tahoua/
URL;VALUE=URI:https://streamradar.soccer/nl/match/5616088/tagour-provincial
 -club-vs-tahoua/
STATUS:CONFIRMED
END:VEVENT
END:VCALENDAR
