BEGIN:VCALENDAR
VERSION:2.0
PRODID:-//StreamRadar//Match Calendar//EN
CALSCALE:GREGORIAN
METHOD:PUBLISH
X-WR-CALNAME:Tabankulu vs Manzini Wanderers
X-WR-TIMEZONE:America/New_York
BEGIN:VEVENT
UID:match-5615537@streamradar.soccer
SUMMARY:Tabankulu vs Manzini Wanderers
DTSTAMP:20260421T104211Z
DTSTART;TZID=America/New_York:20260418T080000
DTEND;TZID=America/New_York:20260418T100000
DESCRIPTION:Waar je Tabankulu vs Manzini Wanderers in Eswatini - Premier Le
 ague (in Eswatini) kunt kijken. Livestream en tv-gids.\nhttps://streamradar
 .soccer/nl/match/5615537/tabankulu-vs-manzini-wanderers/
URL;VALUE=URI:https://streamradar.soccer/nl/match/5615537/tabankulu-vs-manz
 ini-wanderers/
STATUS:CONFIRMED
END:VEVENT
END:VCALENDAR
