BEGIN:VCALENDAR
VERSION:2.0
PRODID:-//StreamRadar//Match Calendar//EN
CALSCALE:GREGORIAN
METHOD:PUBLISH
X-WR-CALNAME:Spartak Nal'chik vs Angusht
X-WR-TIMEZONE:America/New_York
BEGIN:VEVENT
UID:match-5615525@streamradar.soccer
SUMMARY:Spartak Nal'chik vs Angusht
DTSTAMP:20260421T093046Z
DTSTART;TZID=America/New_York:20260516T090000
DTEND;TZID=America/New_York:20260516T110000
DESCRIPTION:Waar je Spartak Nal'chik vs Angusht in Rusland - FNL 2 kunt kij
 ken. Livestream en tv-gids.\nhttps://streamradar.soccer/nl/match/5615525/sp
 artak-nalchik-vs-angusht/
URL;VALUE=URI:https://streamradar.soccer/nl/match/5615525/spartak-nalchik-v
 s-angusht/
STATUS:CONFIRMED
END:VEVENT
END:VCALENDAR
