BEGIN:VCALENDAR
VERSION:2.0
PRODID:-//StreamRadar//Match Calendar//EN
CALSCALE:GREGORIAN
METHOD:PUBLISH
X-WR-CALNAME:Brabrand vs VSK Århus
X-WR-TIMEZONE:America/New_York
BEGIN:VEVENT
UID:match-5615511@streamradar.soccer
SUMMARY:Brabrand vs VSK Århus
DTSTAMP:20260421T080016Z
DTSTART;TZID=America/New_York:20260516T080000
DTEND;TZID=America/New_York:20260516T100000
DESCRIPTION:Waar je Brabrand vs VSK Århus in Denemarken - 1. division kunt
  kijken. Livestream en tv-gids.\nhttps://streamradar.soccer/nl/match/561551
 1/brabrand-vs-vsk-arhus/
URL;VALUE=URI:https://streamradar.soccer/nl/match/5615511/brabrand-vs-vsk-a
 rhus/
STATUS:CONFIRMED
END:VEVENT
END:VCALENDAR
