BEGIN:VCALENDAR
VERSION:2.0
PRODID:-//StreamRadar//Match Calendar//EN
CALSCALE:GREGORIAN
METHOD:PUBLISH
X-WR-CALNAME:Ilirija vs Nafta
X-WR-TIMEZONE:America/New_York
BEGIN:VEVENT
UID:match-5615370@streamradar.soccer
SUMMARY:Ilirija vs Nafta
DTSTAMP:20260421T062209Z
DTSTART;TZID=America/New_York:20260430T110000
DTEND;TZID=America/New_York:20260430T130000
DESCRIPTION:Waar je Ilirija vs Nafta in Slovenië - Druga Liga kunt kijken.
  Livestream en tv-gids.\nhttps://streamradar.soccer/nl/match/5615370/ilirij
 a-vs-nafta/
URL;VALUE=URI:https://streamradar.soccer/nl/match/5615370/ilirija-vs-nafta/
STATUS:CONFIRMED
END:VEVENT
END:VCALENDAR
