BEGIN:VCALENDAR
VERSION:2.0
PRODID:-//StreamRadar//Match Calendar//EN
CALSCALE:GREGORIAN
METHOD:PUBLISH
X-WR-CALNAME:Panserraikos vs Panaitolikos
X-WR-TIMEZONE:America/New_York
BEGIN:VEVENT
UID:match-5615301@streamradar.soccer
SUMMARY:Panserraikos vs Panaitolikos
DTSTAMP:20260421T080717Z
DTSTART;TZID=America/New_York:20260516T120000
DTEND;TZID=America/New_York:20260516T140000
LOCATION:Dimotiko Stadio Serron
DESCRIPTION:Waar je Panserraikos vs Panaitolikos in Griekenland - Super Lea
 gue Griekenland kunt kijken. Livestream en tv-gids.\nhttps://streamradar.so
 ccer/nl/match/5615301/panserraikos-vs-panaitolikos/
URL;VALUE=URI:https://streamradar.soccer/nl/match/5615301/panserraikos-vs-p
 anaitolikos/
STATUS:CONFIRMED
END:VEVENT
END:VCALENDAR
