BEGIN:VCALENDAR
VERSION:2.0
PRODID:-//StreamRadar//Match Calendar//EN
CALSCALE:GREGORIAN
METHOD:PUBLISH
X-WR-CALNAME:Fauve Azur Elite vs Panthère
X-WR-TIMEZONE:America/New_York
BEGIN:VEVENT
UID:match-5614678@streamradar.soccer
SUMMARY:Fauve Azur Elite vs Panthère
DTSTAMP:20260421T102055Z
DTSTART;TZID=America/New_York:20260420T110000
DTEND;TZID=America/New_York:20260420T130000
LOCATION:Stade Omnisports Annexe 1
DESCRIPTION:Waar je Fauve Azur Elite vs Panthère in Kameroen - Elite ONE k
 unt kijken. Livestream en tv-gids.\nhttps://streamradar.soccer/nl/match/561
 4678/fauve-azur-elite-vs-panthere/
URL;VALUE=URI:https://streamradar.soccer/nl/match/5614678/fauve-azur-elite-
 vs-panthere/
STATUS:CONFIRMED
END:VEVENT
END:VCALENDAR
