BEGIN:VCALENDAR
VERSION:2.0
PRODID:-//StreamRadar//Match Calendar//EN
CALSCALE:GREGORIAN
METHOD:PUBLISH
X-WR-CALNAME:Morocco vs Mali
X-WR-TIMEZONE:America/New_York
BEGIN:VEVENT
UID:match-5614670@streamradar.soccer
SUMMARY:Morocco vs Mali
DTSTAMP:20260421T103950Z
DTSTART;TZID=America/New_York:20260417T133000
DTEND;TZID=America/New_York:20260417T153000
DESCRIPTION:Waar je Marokko vs Mali in Vriendschappelijke interland vrouwen
  kunt kijken. Livestream en tv-gids.\nhttps://streamradar.soccer/nl/match/5
 614670/morocco-vs-mali/
URL;VALUE=URI:https://streamradar.soccer/nl/match/5614670/morocco-vs-mali/
STATUS:CONFIRMED
END:VEVENT
END:VCALENDAR
