BEGIN:VCALENDAR
VERSION:2.0
PRODID:-//StreamRadar//Match Calendar//EN
CALSCALE:GREGORIAN
METHOD:PUBLISH
X-WR-CALNAME:Jabala vs Al Shouleh
X-WR-TIMEZONE:America/New_York
BEGIN:VEVENT
UID:match-5614603@streamradar.soccer
SUMMARY:Jabala vs Al Shouleh
DTSTAMP:20260421T104143Z
DTSTART;TZID=America/New_York:20260417T080000
DTEND;TZID=America/New_York:20260417T100000
LOCATION:Al-Baath Stadium (Jableh)
DESCRIPTION:Waar je Jabala vs Al Shouleh in Syrië - Premier League kunt ki
 jken. Livestream en tv-gids.\nhttps://streamradar.soccer/nl/match/5614603/j
 abala-vs-al-shouleh/
URL;VALUE=URI:https://streamradar.soccer/nl/match/5614603/jabala-vs-al-shou
 leh/
STATUS:CONFIRMED
END:VEVENT
END:VCALENDAR
