BEGIN:VCALENDAR
VERSION:2.0
PRODID:-//StreamRadar//Match Calendar//EN
CALSCALE:GREGORIAN
METHOD:PUBLISH
X-WR-CALNAME:PAOK vs AEK Athens
X-WR-TIMEZONE:America/New_York
BEGIN:VEVENT
UID:match-5613003@streamradar.soccer
SUMMARY:PAOK vs AEK Athens
DTSTAMP:20260421T080710Z
DTSTART;TZID=America/New_York:20260513T123000
DTEND;TZID=America/New_York:20260513T143000
LOCATION:Toumba Stadium
DESCRIPTION:Waar je PAOK vs AEK Athens in Griekenland - Super League Grieke
 nland kunt kijken. Livestream en tv-gids.\nhttps://streamradar.soccer/nl/ma
 tch/5613003/paok-vs-aek-athens/
URL;VALUE=URI:https://streamradar.soccer/nl/match/5613003/paok-vs-aek-athen
 s/
STATUS:CONFIRMED
END:VEVENT
END:VCALENDAR
