BEGIN:VCALENDAR
VERSION:2.0
PRODID:-//StreamRadar//Match Calendar//EN
CALSCALE:GREGORIAN
METHOD:PUBLISH
X-WR-CALNAME:Mtarfa vs Santa Lucia
X-WR-TIMEZONE:America/New_York
BEGIN:VEVENT
UID:match-5612311@streamradar.soccer
SUMMARY:Mtarfa vs Santa Lucia
DTSTAMP:20260421T092141Z
DTSTART;TZID=America/New_York:20260419T114500
DTEND;TZID=America/New_York:20260419T134500
LOCATION:Victor Tedesco Stadium
DESCRIPTION:Waar je Mtarfa vs Santa Lucia in Malta - Challenge League kunt 
 kijken. Livestream en tv-gids.\nhttps://streamradar.soccer/nl/match/5612311
 /mtarfa-vs-santa-lucia/
URL;VALUE=URI:https://streamradar.soccer/nl/match/5612311/mtarfa-vs-santa-l
 ucia/
STATUS:CONFIRMED
END:VEVENT
END:VCALENDAR
