BEGIN:VCALENDAR
VERSION:2.0
PRODID:-//StreamRadar//Match Calendar//EN
CALSCALE:GREGORIAN
METHOD:PUBLISH
X-WR-CALNAME:Russia vs Russia U19
X-WR-TIMEZONE:America/New_York
BEGIN:VEVENT
UID:match-5612263@streamradar.soccer
SUMMARY:Russia vs Russia U19
DTSTAMP:20260421T104337Z
DTSTART;TZID=America/New_York:20260417T080000
DTEND;TZID=America/New_York:20260417T100000
DESCRIPTION:Waar je Rusland vs Rusland U-19 in Vriendschappelijke interland
  vrouwen kunt kijken. Livestream en tv-gids.\nhttps://streamradar.soccer/nl
 /match/5612263/russia-vs-russia-u19/
URL;VALUE=URI:https://streamradar.soccer/nl/match/5612263/russia-vs-russia-
 u19/
STATUS:CONFIRMED
END:VEVENT
END:VCALENDAR
