BEGIN:VCALENDAR
VERSION:2.0
PRODID:-//StreamRadar//Match Calendar//EN
CALSCALE:GREGORIAN
METHOD:PUBLISH
X-WR-CALNAME:Rubin Yalta vs Sevastopol
X-WR-TIMEZONE:America/New_York
BEGIN:VEVENT
UID:match-5611571@streamradar.soccer
SUMMARY:Rubin Yalta vs Sevastopol
DTSTAMP:20260421T080757Z
DTSTART;TZID=America/New_York:20260510T090000
DTEND;TZID=America/New_York:20260510T110000
DESCRIPTION:Waar je Rubin Yalta vs Sevastopol in Rusland - FNL 2 kunt kijke
 n. Livestream en tv-gids.\nhttps://streamradar.soccer/nl/match/5611571/rubi
 n-yalta-vs-sevastopol/
URL;VALUE=URI:https://streamradar.soccer/nl/match/5611571/rubin-yalta-vs-se
 vastopol/
STATUS:CONFIRMED
END:VEVENT
END:VCALENDAR
