BEGIN:VCALENDAR
VERSION:2.0
PRODID:-//StreamRadar//Match Calendar//EN
CALSCALE:GREGORIAN
METHOD:PUBLISH
X-WR-CALNAME:Treze vs Decisão
X-WR-TIMEZONE:America/New_York
BEGIN:VEVENT
UID:match-5610741@streamradar.soccer
SUMMARY:Treze vs Decisão
DTSTAMP:20260421T062148Z
DTSTART;TZID=America/New_York:20260509T160000
DTEND;TZID=America/New_York:20260509T180000
DESCRIPTION:Waar je Treze vs Decisão in Brazilië - Serie D kunt kijken. L
 ivestream en tv-gids.\nhttps://streamradar.soccer/nl/match/5610741/treze-vs
 -decisao/
URL;VALUE=URI:https://streamradar.soccer/nl/match/5610741/treze-vs-decisao/
STATUS:CONFIRMED
END:VEVENT
END:VCALENDAR
