BEGIN:VCALENDAR
VERSION:2.0
PRODID:-//StreamRadar//Match Calendar//EN
CALSCALE:GREGORIAN
METHOD:PUBLISH
X-WR-CALNAME:Paloma vs Süderelbe
X-WR-TIMEZONE:America/New_York
BEGIN:VEVENT
UID:match-5610045@streamradar.soccer
SUMMARY:Paloma vs Süderelbe
DTSTAMP:20260421T071528Z
DTSTART;TZID=America/New_York:20260505T133000
DTEND;TZID=America/New_York:20260505T153000
DESCRIPTION:Waar je Paloma vs Süderelbe in Duitsland - Oberliga kunt kijke
 n. Livestream en tv-gids.\nhttps://streamradar.soccer/nl/match/5610045/palo
 ma-vs-s-derelbe/
URL;VALUE=URI:https://streamradar.soccer/nl/match/5610045/paloma-vs-s-derel
 be/
STATUS:CONFIRMED
END:VEVENT
END:VCALENDAR
