BEGIN:VCALENDAR
VERSION:2.0
PRODID:-//StreamRadar//Match Calendar//EN
CALSCALE:GREGORIAN
METHOD:PUBLISH
X-WR-CALNAME:Douanes Niamey vs Urana
X-WR-TIMEZONE:America/New_York
BEGIN:VEVENT
UID:match-5607953@streamradar.soccer
SUMMARY:Douanes Niamey vs Urana
DTSTAMP:20260421T204202Z
DTSTART;TZID=America/New_York:20260407T113000
DTEND;TZID=America/New_York:20260407T133000
LOCATION:Stade Général Seyni Kountché (Niamey)
DESCRIPTION:Waar je Douanes Niamey vs Urana in Niger - Super Ligue kunt kij
 ken. Livestream en tv-gids.\nhttps://streamradar.soccer/nl/match/5607953/do
 uanes-niamey-vs-urana/
URL;VALUE=URI:https://streamradar.soccer/nl/match/5607953/douanes-niamey-vs
 -urana/
STATUS:CONFIRMED
END:VEVENT
END:VCALENDAR
