BEGIN:VCALENDAR
VERSION:2.0
PRODID:-//StreamRadar//Match Calendar//EN
CALSCALE:GREGORIAN
METHOD:PUBLISH
X-WR-CALNAME:CRAC vs Betim
X-WR-TIMEZONE:America/New_York
BEGIN:VEVENT
UID:match-5607440@streamradar.soccer
SUMMARY:CRAC vs Betim
DTSTAMP:20260421T084124Z
DTSTART;TZID=America/New_York:20260503T150000
DTEND;TZID=America/New_York:20260503T170000
DESCRIPTION:Waar je CRAC vs Betim in Brazilië - Serie D kunt kijken. Lives
 tream en tv-gids.\nhttps://streamradar.soccer/nl/match/5607440/crac-vs-beti
 m/
URL;VALUE=URI:https://streamradar.soccer/nl/match/5607440/crac-vs-betim/
STATUS:CONFIRMED
END:VEVENT
END:VCALENDAR
