BEGIN:VCALENDAR
VERSION:2.0
PRODID:-//StreamRadar//Match Calendar//EN
CALSCALE:GREGORIAN
METHOD:PUBLISH
X-WR-CALNAME:Soligorsk vs Osipovichi
X-WR-TIMEZONE:America/New_York
BEGIN:VEVENT
UID:match-5594933@streamradar.soccer
SUMMARY:Soligorsk vs Osipovichi
DTSTAMP:20260423T184027Z
DTSTART;TZID=America/New_York:20260912T110000
DTEND;TZID=America/New_York:20260912T130000
DESCRIPTION:Waar je Soligorsk vs Osipovichi in Wit-Rusland - Eerste Liga ku
 nt kijken. Livestream en tv-gids.\nhttps://streamradar.soccer/nl/match/5594
 933/soligorsk-vs-osipovichi/
URL;VALUE=URI:https://streamradar.soccer/nl/match/5594933/soligorsk-vs-osip
 ovichi/
STATUS:CONFIRMED
END:VEVENT
END:VCALENDAR
