BEGIN:VCALENDAR
VERSION:2.0
PRODID:-//StreamRadar//Match Calendar//EN
CALSCALE:GREGORIAN
METHOD:PUBLISH
X-WR-CALNAME:Eskhata vs Istaravshan
X-WR-TIMEZONE:America/New_York
BEGIN:VEVENT
UID:match-5593881@streamradar.soccer
SUMMARY:Eskhata vs Istaravshan
DTSTAMP:20260425T162324Z
DTSTART;TZID=America/New_York:20260920T090000
DTEND;TZID=America/New_York:20260920T110000
DESCRIPTION:Waar je Eskhata vs Istaravshan in Tadzjikistan - Tajik League k
 unt kijken. Livestream en tv-gids.\nhttps://streamradar.soccer/nl/match/559
 3881/eskhata-vs-istaravshan/
URL;VALUE=URI:https://streamradar.soccer/nl/match/5593881/eskhata-vs-istara
 vshan/
STATUS:CONFIRMED
END:VEVENT
END:VCALENDAR
